BEGIN:VCALENDAR
VERSION:2.0
PRODID:icalendar-ruby
CALSCALE:GREGORIAN
METHOD:PUBLISH
BEGIN:VEVENT
DTSTAMP:20260422T184704Z
UID:100-839843@beechgrove.org
DTSTART:20260701T133000Z
DTEND:20260701T190000Z
CLASS:PUBLIC
CREATED:20260420T133628
DESCRIPTION:Kids in Kindergarten–5th grade are invited to join us this su
 mmer for four exciting Kids  Day Out experiences—including Dart Battle\
 , Bowling\, the Zoo\, and MetCalf Bottoms!\nEach outing will also include 
 time for lunch and ice cream\, making it a full day of fun and connection.
 \nIn addition to our outings\, kids will have opportunities to serve throu
 gh mission crafts and a special visit to a local nursing facility\, where 
 they can encourage and bless others.\nBe sure to sign up soon—we only ha
 ve  10  spots available!You can find the sign-up and FAQ at the bottom o
 f the page.
LAST-MODIFIED:20260420T133628
LOCATION:
SUMMARY:Kids Day Out
URL;VALUE=URI:https://beechgrove.org/events/kids-day-out--100/2026-07-01
ATTACH;FILENAME=Website----1.jpg;FMTTYPE=image/jpeg:https://dq5pwpg1q8ru0.c
 loudfront.net/2026/04/17/19/17/55/f87d4beb-63df-400c-a5a4-95d31102e09e/Web
 site----1.jpg
END:VEVENT
END:VCALENDAR
